BEGIN:VCALENDAR
VERSION:2.0
PRODID:-//COVID Info PDX - ECPv6.15.17.1//NONSGML v1.0//EN
CALSCALE:GREGORIAN
METHOD:PUBLISH
X-ORIGINAL-URL:https://www.covidinfopdx.com
X-WR-CALDESC:Events for COVID Info PDX
REFRESH-INTERVAL;VALUE=DURATION:PT1H
X-Robots-Tag:noindex
X-PUBLISHED-TTL:PT1H
BEGIN:VTIMEZONE
TZID:America/Los_Angeles
BEGIN:DAYLIGHT
TZOFFSETFROM:-0800
TZOFFSETTO:-0700
TZNAME:PDT
DTSTART:20240310T100000
END:DAYLIGHT
BEGIN:STANDARD
TZOFFSETFROM:-0700
TZOFFSETTO:-0800
TZNAME:PST
DTSTART:20241103T090000
END:STANDARD
BEGIN:DAYLIGHT
TZOFFSETFROM:-0800
TZOFFSETTO:-0700
TZNAME:PDT
DTSTART:20250309T100000
END:DAYLIGHT
BEGIN:STANDARD
TZOFFSETFROM:-0700
TZOFFSETTO:-0800
TZNAME:PST
DTSTART:20251102T090000
END:STANDARD
BEGIN:DAYLIGHT
TZOFFSETFROM:-0800
TZOFFSETTO:-0700
TZNAME:PDT
DTSTART:20260308T100000
END:DAYLIGHT
BEGIN:STANDARD
TZOFFSETFROM:-0700
TZOFFSETTO:-0800
TZNAME:PST
DTSTART:20261101T090000
END:STANDARD
END:VTIMEZONE
BEGIN:VEVENT
DTSTART;TZID=America/Los_Angeles:20250803T180000
DTEND;TZID=America/Los_Angeles:20250803T200000
DTSTAMP:20260420T030822
CREATED:20250627T015636Z
LAST-MODIFIED:20250627T015636Z
UID:1221-1754244000-1754251200@www.covidinfopdx.com
SUMMARY:Masks Required Private Event at Olympia Hands On Children's Museum
DESCRIPTION:This event will be from 6-8 PM on Sunday\, August 3rd at the Olympia Hands On Children’s Museum. We will have exclusive use of the museum as well as their outdoor space. The outdoor space is substantial and includes enough activities to keep many kids busy for the whole 2 hours. Masks will be required for all attendees OVER 2 years of age\, including in the outdoor space. Masks must be KF94/KN95 or better. Given that this is a museum made for children as young as toddlers\, we will welcome unmasked children aged 2 and under indoors to enjoy the museum. \nWe are asking all present museum staff to mask while we are there using respirator style masks. I have been told by the coordinator that 2-3 staff will be present for the event\, that typically staff are happy to mask\,  but staff are NOT able to be required to comply. The three staff at our June event masked in KN95 masks without a problem. I have inquired about the cleaning procedures prior to the event and I have been told that only the typical\, throughout the day\, surface cleaning and bathroom cleaning procedures will have been done prior to the event. Deep cleaning happens after everyone leaves (after our event would be done)\, as the chemicals involved are not child safe when freshly applied.\n\nThe museum has a high quality HVAC system that should keep the museum quite well ventilated during the event. During our June event\, Aranet readings maxed in the low 800s upstairs. We had 81 attendees at that event and people were well spread out. The museum is ADA accessible and parking will be free in the museum parking lot during the event. Street parking near the museum will also be free on weekends. If you would be attending only to enjoy the outdoor space\, please note that you will need to enter the museum\, sign in\, and then walk through to the outdoor space. Feel free to visit hocm.org to view the museum and get a sense of the space and the activities available.\n\nAdults are welcome to come to this event without children. If you do not have children and want to come socialize with other masking adults\, feel free to attend.\n\nTickets are $10 per person. Each person attending the event must have a ticket\, regardless of age. The event will be capped at 150 attendees and the cost for the event is $625 for 100-150 people. Funds from the $10 tickets will be used to subsidize the no-cost tickets for attendees where cost is a barrier to attendance. Any additional funds I may receive above the cost of the event will be donated to the Olympia MaskBloc and Clean Air Oly. If cost is a barrier\, please do not hesitate to purchase a no-cost ticket.\n\nAgain the details for the event are:\n\n-Tickets are $10 per person and there are no cost tickets available for people where cost is a barrier\n-KF94/KN95 masks or better are required for attendees OVER 2 years of age\, including in the outdoor space\n-Children aged 2 years or under are welcome to attend\, even though they are not able to mask or may not yet be able to mask\n-We will ask staff members to mask\, and they probably will\, but they cannot be compelled to comply\n-We will have use of the extensive outdoor space belonging to the museum\n\nTickets are non-refundable.
URL:https://www.covidinfopdx.com/event/masks-required-private-event-at-olympia-hands-on-childrens-museum/
LOCATION:Hands On Children’s Museum\, 414 Jefferson St NE\, Olympia\, WA\, 98501\, United States
CATEGORIES:Museum,Paid
ATTACH;FMTTYPE=image/jpeg:https://www.covidinfopdx.com/wp-content/uploads/2025/06/4-crop-1622589998-2644x1168@2x.jpg
END:VEVENT
BEGIN:VEVENT
DTSTART;TZID=America/Los_Angeles:20250622T180000
DTEND;TZID=America/Los_Angeles:20250622T210000
DTSTAMP:20260420T030822
CREATED:20250605T015056Z
LAST-MODIFIED:20250605T015315Z
UID:1195-1750615200-1750626000@www.covidinfopdx.com
SUMMARY:Masked Night at OMSI
DESCRIPTION:June 22\, 2025\, 6-9PM \n\n\n\n\n\n\nOMSI is pleased to host a night at the museum for those who are immunocompromised\, a low-capacity evening\, PPE masks required (N95 or KN95 only). In the main lobby\, we will have a table offering free masks for all guests. \n\n\n\n\nAll guests\, staff\, security\, etc.\, attending or working the event will be required to wear an N95 or KN95 mask with no valves or SIP valves\, no matter your age\, which will be provided for free in the main lobby if needed. \nWe kindly ask that young children who are unable to wear a mask not attend this event. We understand that young children are also immunocompromised but have decided to make this event masks required for everyone. We are exploring ways to include young children in future offerings. \n\n\n\n\n\n\nExhibits\n\n\n\n\nNo food or drink is allowed into the exhibit halls and entry ends at 8:30pm. \n\nJurassic World by Brickman®| Featuring large-scale LEGO® brick dinosaurs\, props\, scenes\, and activities—plus\, the newest Jurassic World by Brickman® dinosaur\, made from over 100 thousand LEGO bricks\, the Baryonyx! Walk through the iconic Jurassic World gates and relive the magic of beloved stories and characters from the Jurassic World franchise\, as you embark on a thrilling journey across the Isla Nublar. Entry is timed and capacity is limited. Legos have not been sanitized\, but we will have antibacterial gel stations located near each interactive portion. (included in the Featured Exhibit Bundle ticket) \nKnowing Nature: Stories of the Boreal Forest| This exhibit focuses on the biodiversity and global importance of our northern-most forests through first-person stories\, commissioned objects\, interactive experiences and exquisite photography and videography.The boreal forest stores more carbon than most tropical forests and plays a significant role in stabilizing our climate. It is also home to hundreds of Sovereign Indigenous Nations and communities. \nKendall Planetarium Shows*\n6:15pm: Starry Nights Live\n7:00pm: Super Solarstorms\n7:45pm:  Black Holes: The Other Side of Infinity\n8:30pm: Laser David Bowie\n*Shows are 25 minutes and capacity will be limited to 50%. \nEmpirical Theater*\n6:15pm: Superpower Dogs\n7:15pm: Blue Whales\n*Shows are 45 minutes and capacity will be limited to 50%. \nAfter you purchase your ticket\, you will be sent a form to sign up for the show of your choice. If you don’t receive the form\, email us at events@omsi.edu. \n\nTICKETS:\n\n\nMuseum Bundle | $25 Adults (14+)\, $22 Seniors (63+)\, $20 Youth (3-13) | OMSI members free\nIncludes access to the Turbine Hall\, Knowing Nature: Stories of the Boreal Forest in the Natural Science Hall\, and an Empirical Movie OR a Planetarium show. BUY TICKETS \n\n\n\n\nFeatured Exhibit Bundle | $32 Adults (14+)\, $29 Seniors (63+)\, $27 Youth (3-13) | OMSI members $6\nIncludes access to the featured exhibit\, Jurassic World by Brickman\, the Turbine Hall\, Knowing Nature: Stories of the Boreal Forest in the Natural Science Hall\, and an Empirical Movie OR a Planetarium show. BUY TICKETS \n\n\nArts for All Tickets | $10pp Museum Bundle\, $17 Featured Exhibit Bundle\nThrough the Arts for All program\, OMSI provides discounted general admission tickets for eligible purchases. Up to four general admission tickets can be purchased over the phone. Individuals who receive income assistance via EBT\, SNAP\, WIC\, TANF\, or Medicaid / OHP regardless of their state of residence are eligible. Ticket holders may be asked to show documentation indicating eligibility along with photo ID and tickets at entry. To purchase Arts for All tickets to this event\, you must call 503.797.4000 x0 or email concierge@omsi.edu \nVolunteer  | Free\nWe need volunteers to staff masks table at the front of the museum\, and to keep an eye on the antibacterial stations in the Lego exhibit. Tabling is seated\, right near the front doors. Antibacterial stations are standing (seated on request) and also interactive with people. Volunteering is 5:30p-8:30p. Previous volunteers describe the experience as highly rewarding\, since its mostly grateful folks thanking you over and over.  If attending is overwhelming for any reason\, this is a spectacular way to still be there and meet people. To volunteer\, please send an email to amanda@covidinfopdx.com with the subject: volunteer.
URL:https://www.covidinfopdx.com/event/masked-night-at-omsi-2/
LOCATION:OMSI\, 1945 SE Water Ave\, Portland\, OR\, OR\, 97214\, United States
CATEGORIES:Museum,Paid
ATTACH;FMTTYPE=image/png:https://www.covidinfopdx.com/wp-content/uploads/2025/01/2025-01-13_13-06-02.png
END:VEVENT
BEGIN:VEVENT
DTSTART;TZID=America/Los_Angeles:20250518T100000
DTEND;TZID=America/Los_Angeles:20250518T114500
DTSTAMP:20260420T030822
CREATED:20250418T051011Z
LAST-MODIFIED:20250419T034008Z
UID:1117-1747562400-1747568700@www.covidinfopdx.com
SUMMARY:Sunday at Oregon Historical Society
DESCRIPTION:For almost 2 hours\, we will be the only guests at the Oregon Historical Society (see the list of exhibits here)\, except for staff and security\, who will be wearing n95 Auras. It’s a large space (three floors) and we’ll have the run of it.  Amazingly\, tickets are free for anyone under 17 or who lives in Multnomah County or those with SNAP benefits\, under the Museums for All program. For everyone else\, they are discounted. Since the museum will staff based on how many attend\, please only get a free ticket unless you plan to be there the day of.  Paid tickets are refundable so long as you request a refund before 5/15. \nPrecautions: This is an ages 2 and up event. All attendees must wear well fitting N95 or KN95 masks\, no sip valves or vents\, please. There is no food or drinks being vended nor brought in. Unmasked people will have been in the building the night before\, but we are the only people in the building Sunday morning. \nAccommodations:  OHS’s front entrance is accessible to wheelchairs and strollers via the ramp located at 1200 SW Park Avenue. A limited number of manual wheelchairs are available at no charge and can be reserved at the admissions desk on a first-come\, first-served basis. All of our galleries and our research library are accessible by elevator.  Restrooms are located on Levels 1 and 2 of the museums and all have accessible stalls. There are two single-occupancy gender-neutral restrooms available on Level 2. One is located behind the admissions desk\, and the other is located near the Community Mezzanine Gallery. There are two additional single-occupancy\, gender-neutral restrooms available to researchers in the library on Level 4. Service animals are welcome in the museum. Under the Americans with Disabilities Act (ADA)\, service animals are defined as dogs that are individually trained to do work or perform tasks for people with disabilities. Pets are not permitted. \nTicket terms: Tickets are free for anyone under 17 or who lives in Multnomah County or those with SNAP benefits\, under the Museums for All program. For everyone else\, they are discounted to $11. You will need a piece of mail\, ID\, a utility bill or anything else that shows your name and zip code to show that you live in Multnomah County when you arrive at the museum. Since the museum will staff based on how many attend\, please only get a free ticket unless you plan to be there the day of.  Paid tickets are refundable so long as you request a refund before 5/15.
URL:https://www.covidinfopdx.com/event/sunday-at-oregon-historical-society/
LOCATION:Oregon Historical Society\, 1200 SW Park Ave Portland\, OR 97205\, Portland\, Oregon\, 97205
CATEGORIES:Movie,Museum,Paid
ATTACH;FMTTYPE=image/webp:https://www.covidinfopdx.com/wp-content/uploads/2025/04/Oregon-Historical-Society-Experience-Oregon-aspect-ratio-5x3-1.webp
ORGANIZER;CN="Amanda Blum":MAILTO:amanda@howlingzoe.com
END:VEVENT
BEGIN:VEVENT
DTSTART;TZID=America/Los_Angeles:20250216T180000
DTEND;TZID=America/Los_Angeles:20250216T210000
DTSTAMP:20260420T030822
CREATED:20250114T024240Z
LAST-MODIFIED:20250114T024240Z
UID:782-1739728800-1739739600@www.covidinfopdx.com
SUMMARY:Masked Night at OMSI
DESCRIPTION:FEBRUARY 16\, 2025\, 6-9PM \n\n\n\n\nOMSI is pleased to host a night at the museum for those that are immunocompromised. A low-capacity evening\, PPE masks required (N95 or KN95 only). In the main lobby\, we will have a table offering free masks for all guests. \n\n\n\n\nBuy Tickets Here: $23A\, $19S\, $15Y | OMSI Members visit for free. SNAP  discounts are available when purchased online. \n\n\n\n\nTickets include access to all of our exhibition halls including our featured exhibit as well as one film in the Empirical Theater and two planetarium shows in the Kendall Planetarium. \n\n\n\n\nAll guests\, staff\, security\, etc. attending or working the event will be required to wear a N95 or KN95 mask. \n\n\n\nExhibits\n\n\n\nExquisite Creatures Revealed | Experience how awe-inspiring the natural world can be through the intricate design of its inhabitants. Oregon artist Christopher Marley reveals the connection between art\, science\, and nature by creating stunning three-dimensional displays of rare specimens from all over the world. Exhibit begins with a 5 minute introductory video.\nAll subjects have been reclaimed or sourced in an environmentally sensitive manner. \nKnowing Nature: Stories of the Boreal Forest | This exhibit focuses on the biodiversity and global importance of our northern-most forests through first-person stories\, commissioned objects\, interactive experiences and exquisite photography and videography. The boreal forest stores more carbon than most tropical forests and plays a significant role in stabilizing our climate. It is also home to hundreds of Sovereign Indigenous Nations and communities. \n\n\n\n\n\n\n\n\nTimed Activities\n\nKendall Planetarium Shows*\n \n6:45pm | Starry Nights Live \n7:30pm | Black Holes: The Other Side of Infinity \n*Seating is first come\, first served; there are 185 seats per show. No food or drink allowed. \n  \nEmpirical Theater* \n7:15pm |  T-REX \n*Seating is first come\, first served; there are 300 seats.
URL:https://www.covidinfopdx.com/event/masked-night-at-omsi/
LOCATION:OMSI\, 1945 SE Water Ave\, Portland\, OR\, OR\, 97214\, United States
CATEGORIES:Museum,Paid
ATTACH;FMTTYPE=image/png:https://www.covidinfopdx.com/wp-content/uploads/2025/01/2025-01-13_13-06-02.png
END:VEVENT
END:VCALENDAR